BEGIN:VCALENDAR
VERSION:2.0
PRODID:-//hacksw/handcal//NONSGML v1.0//EN
BEGIN:VEVENT
SUMMARY:D2 - J18
UID:5b7b5e65-4e98-4dff-9690-00a5429434e7
DTSTART:20260426T103000Z
DTEND:20260426T123000Z
LOCATION:Localisation   
CATEGORIES:Sportif
STATUS:
URL;VALUE=URI:https://www.usblavozy.com/evenements/2026/04/26/d2-j18-2438975
END:VEVENT
END:VCALENDAR
