BEGIN:VCALENDAR
VERSION:2.0
PRODID:-//hacksw/handcal//NONSGML v1.0//EN
BEGIN:VEVENT
SUMMARY:D2 - J17
UID:ffd9a64c-29f9-47b1-ab72-7459f21ba0df
DTSTART:20260419T130000Z
DTEND:20260419T150000Z
LOCATION:Localisation   
CATEGORIES:Sportif
STATUS:
URL;VALUE=URI:https://www.usblavozy.com/evenements/2026/04/19/d2-j17-2438974
END:VEVENT
END:VCALENDAR
