BEGIN:VCALENDAR
VERSION:2.0
PRODID:-//hacksw/handcal//NONSGML v1.0//EN
BEGIN:VEVENT
SUMMARY:La douche froide
UID:bfb63b98-1d76-41b1-bad7-1faba546178d
DTSTART:20260329T130000Z
DTEND:20260329T150000Z
LOCATION:Localisation   
CATEGORIES:Sportif
STATUS:
DESCRIPTION:<p style="text-align:justify;"><strong>En deplacement sur
 la pelouse de Firminy, les carriers savaient que le defi serait de
 taille. Pourtant bien en place dans la premiere demi-heure et a
 egalite, nos Verts vont craquer avant la pause face a des Appelous
 qui n'en demandaient pas tant pour creuser l'ecart. Le score va
 s'averer fleuve au terme d'une rencontre qu'il faut vite oublier pour
 repartir au combat.<br>
 Score final : 6-1</strong><br>
 <br>
 La
 sonnette d'alarme retentit sur Blavozy. La defaite concedee ce
 dimanche a Firminy, conjuguee aux victoires de Ceyrat, Riom et
 Montlucon resonne comme un tres gros rappel a l'ordre pour nos Verts
 qui ont concede un lourd revers.</p>
 
 <p
 style="text-align:justify;"><strong>Le trou noir apres
 l'egalisation</strong><br>
 Face a une formation que l'on sait joueuse
 et offensivement habile, nos carriers vont opposer une belle
 resistance dans le premier acte malgre l'ouverture du score precoce
 des locaux. Sur une action bien menee cote gauche et a la suite d'un
 joli une-deux avec Tanguy Flandin, Theo Pouille se projette et
 conclut l'action en trompant le portier local d'une frappe
 croisee.<br>
 <em><strong>17e : 1-1</strong></em><br>
 <br>
 Une
 reaction d'orgueil qui va se confirmer avec une belle tentative de
 Thibaut Lager mais sa frappe vient heurter la transversale du gardien
 ligerien. Puis, des errances, des manquements qui vont profiter aux
 locaux avant la pause alors que l'on sentait nos Verts plutot
 rigoureux. Deux erreurs que Firminy va sanctionner cash pour faire le
 break avant la pause avec une efficaite redoutable sur coup de pied
 arrete...<br>
 <br>
 <strong>Mi-temps :
 3-1</strong><br>
 <br>
 <strong>Relever vite la tete apres la
 gifle</strong><br>
 Le debut de seconde mi-temps va reduire les
 espoirs des Verts a neant sur un nouveau coup de pied arrete apres
 seulement 5 minutes de jeu. Avec trois buts d'avance, les Appelous
 vont ensuite largement dominer et faire tourner le ballon. Au-dessus
 dans le jeu, les locaux vont derouler face a nos carriers. 2 nouveaux
 buts viendront ponctuer cette partie dure et bien que le score soit
 severe, la superiorite locale a ete recompensee sur cette rencontre.
 Bravo a eux.<br>
 <br>
 <strong>Score final : 6-1</strong><br>
 Une
 gifle qui doit mobiliser. Car il vaut mieux prendre une fois 6 et se
 relever, ne pas tendre l'autre joue car au rythme des equipes de
 derriere, les ecarts sont plus que resseres desormais. Le match en
 retard a Aurillac s'annonce capital pour la suite meme s'il reste
 encore enormement de points a distribuer. Il va falloir lancer ce
 sprint jusqu'au mois de mai avec determination et courage. Le
 maintien se joue desormais a chaque rencontre. </p>
 
 <p
 style="text-align:justify;"><strong>Regional 1 - Journee
 18</strong><br>
 <span style="color:#16a085;"><em><strong>Montlucon
 Football 3-</strong>1<strong> </strong>FC Aurillac<br>
 Ceyrat
 3-2 US Monistrol <br>
 Le Puy Foot (b) 1-1 SA Thiers<br>
 FC
 Chassieu-Decines 1-<strong>2 FC Espaly</strong><br>
 <strong>Clermont
 Foot (b) 3-</strong>0<strong> </strong>US Sucs et
 Lignon <br>
 <strong>FC Riom 4</strong>-0 GOAL FC
 (b)<strong> </strong></em></span><br>
 <br>
 <em>Pour acceder au
 classement, <a
 href="https://laurafoot.fff.fr/competitions?tab=ranking&id=443528&phase=1&poule=1&type=ch"
 target="_blank" rel="noreferrer noopener">cliquez ici</a></em></p>
URL;VALUE=URI:https://www.usblavozy.com/evenements/2026/03/29/la-douche-froide-2419449
END:VEVENT
END:VCALENDAR
